BEGIN:VCALENDAR
VERSION:2.0
PRODID:-//Plone.org//NONSGML plone.app.event//EN
X-WR-TIMEZONE:Europe/Berlin
BEGIN:VEVENT
SUMMARY:Datenschutz im Verein
DTSTART;TZID=Europe/Berlin;VALUE=DATE-TIME:20211215T150000
DTEND;TZID=Europe/Berlin;VALUE=DATE-TIME:20211215T170000
DTSTAMP;VALUE=DATE-TIME:20260421T105035Z
UID:9bb5bc5cfe394c829b2315d9cac08842@www.diskriminierung-berlin.de
CATEGORIES:LV Selbsthilfe,Online-Veranstaltung,Datenschutz,Web-Meeting-Too
 ls,Digitalisierung
CONTACT:LV Selbsthilfe\, +493027592525\, info@lv-selbsthilfe.de\, https://
 lv-selbsthilfe-berlin.de/termine/
CREATED;VALUE=DATE-TIME:20210907T074703Z
DESCRIPTION:Online-Veranstaltung der LV Selbsthilfe Berlin e.V. zu "Datens
 chutz in Organisation und Verein" und zum Thema Sicherheit und Datenschutz
  bei digitalen Konferenzsystemen
LAST-MODIFIED;VALUE=DATE-TIME:20220321T094435Z
LOCATION:Online-Veranstaltung
URL:https://www.diskriminierung-berlin.de/shin/termine-lv/termine-lv-2021/
 datenschutz-im-verein
END:VEVENT
BEGIN:VTIMEZONE
TZID:Europe/Berlin
X-LIC-LOCATION:Europe/Berlin
BEGIN:STANDARD
DTSTART;VALUE=DATE-TIME:20211031T020000
TZNAME:CET
TZOFFSETFROM:+0200
TZOFFSETTO:+0100
END:STANDARD
END:VTIMEZONE
END:VCALENDAR
