BEGIN:VCALENDAR
VERSION:2.0
PRODID:-//Plone.org//NONSGML plone.app.event//EN
X-WR-TIMEZONE:Europe/Berlin
BEGIN:VEVENT
SUMMARY:Online-Fachgespräch „Gesetzliche Grundlagen in der Antidiskrimi
 nierungsarbeit – Perspektiven und Anforderungen“
DTSTART;TZID=Europe/Berlin;VALUE=DATE-TIME:20211209T160000
DTEND;TZID=Europe/Berlin;VALUE=DATE-TIME:20211209T180000
DTSTAMP;VALUE=DATE-TIME:20260422T123139Z
UID:d55753e57ddc43848dd294dcb5d5c3d8@www.diskriminierung-berlin.de
CATEGORIES:LV Selbsthilfe,Antidiskriminierung,Beratungsstelle
CONTACT:Antidiskriminierungsberatung Alter\, Behinderung\, Chronische Erkr
 ankung.\, 030 275 92 527\, adb@lv-selbsthilfe-berlin.de\, https://www.disk
 riminierung-berlin.de/termine/online-fachgespraech-gesetzliche-grundlagen-
 in-der-antidiskriminierungsarbeit-perspektiven-und-anforderungen
CREATED;VALUE=DATE-TIME:20211208T124347Z
DESCRIPTION:Online-Fachgespräch „Gesetzliche Grundlagen in der Antidisk
 riminierungsarbeit – Perspektiven und Anforderungen“ \, eine Veranstal
 tung der Antidiskriminierungsberatung Alter\, Behinderung\, Chronische Erk
 rankung.
LAST-MODIFIED;VALUE=DATE-TIME:20220321T094435Z
URL:https://www.diskriminierung-berlin.de/shin/termine-lv/termine-lv-2021/
 online-fachgespraech-gesetzliche-grundlagen-in-der-antidiskriminierungsarb
 eit
END:VEVENT
BEGIN:VTIMEZONE
TZID:Europe/Berlin
X-LIC-LOCATION:Europe/Berlin
BEGIN:STANDARD
DTSTART;VALUE=DATE-TIME:20211031T020000
TZNAME:CET
TZOFFSETFROM:+0200
TZOFFSETTO:+0100
END:STANDARD
END:VTIMEZONE
END:VCALENDAR
