BEGIN:VCALENDAR
VERSION:2.0
PRODID:-//Plone.org//NONSGML plone.app.event//EN
X-WR-TIMEZONE:Europe/Berlin
BEGIN:VEVENT
SUMMARY:Online-Infoveranstaltung: Teilhabestärkungsgesetz
DTSTART;TZID=Europe/Berlin;VALUE=DATE-TIME:20220215T180000
DTEND;TZID=Europe/Berlin;VALUE=DATE-TIME:20220215T193000
DTSTAMP;VALUE=DATE-TIME:20260422T123247Z
UID:1693a134316e4eb5b423da6c8f794498@www.diskriminierung-berlin.de
CATEGORIES:Behinderung,Gesetzliche Grundlagen,Online-Veranstaltung,DMSG Be
 rlin
CONTACT:Deutsche Multiple Sklerose Gesellschaft\, Landesverband Berlin e.V
 .\, 030 / 313 06 47\, info@dmsg-berlin.de\, https://www.dmsg-berlin.de/de/
 veranstaltungen/detailansicht/online-infoveranstaltung-teilhabestaerkungsg
 esetz/
CREATED;VALUE=DATE-TIME:20220109T140204Z
DESCRIPTION:Online-Infoveranstaltung der DMSG Berlin: Teilhabestärkungsge
 setz
LAST-MODIFIED;VALUE=DATE-TIME:20220109T142000Z
LOCATION:Online / DMSG LV Berlin e.V.
URL:https://www.diskriminierung-berlin.de/shin/veranstaltungen-der-selbsth
 ilfe/veranstaltungen-der-selbsthilfe-in-berlin-brandenburg/online-infovera
 nstaltung-dmsg-teilhabestaerkungsgesetz
END:VEVENT
BEGIN:VTIMEZONE
TZID:Europe/Berlin
X-LIC-LOCATION:Europe/Berlin
BEGIN:STANDARD
DTSTART;VALUE=DATE-TIME:20211031T020000
TZNAME:CET
TZOFFSETFROM:+0200
TZOFFSETTO:+0100
END:STANDARD
END:VTIMEZONE
END:VCALENDAR
