BEGIN:VCALENDAR
VERSION:2.0
PRODID:-//Plone.org//NONSGML plone.app.event//EN
X-WR-TIMEZONE:Europe/Berlin
BEGIN:VEVENT
SUMMARY:Diskriminierung aufgrund von Behinderung und chronischer Erkrankun
 g – Möglichkeiten der Rechtsdurchsetzung und Schutzlücken
DTSTART;TZID=Europe/Berlin;VALUE=DATE-TIME:20251030T150000
DTEND;TZID=Europe/Berlin;VALUE=DATE-TIME:20251030T180000
DTSTAMP;VALUE=DATE-TIME:20260422T054316Z
UID:1728f1269960435787abb605f79b6f8d@www.diskriminierung-berlin.de
CONTACT:Antidiskriminierungsberatung Alter\, Behinderung\, Chronische Erkr
 ankung\, adb@lv-selbsthilfe-berlin.de
CREATED;VALUE=DATE-TIME:20250827T082510Z
DESCRIPTION:"Diskriminierung aufgrund von Behinderung und chronischer Erkr
 ankung – Möglichkeiten der Rechtsdurchsetzung und Schutzlücken"\, Fach
 veranstaltung der Antidiskriminierungsberatung Alter\, Behinderung\, Chron
 ische Erkrankung (ADB). Online-Fachveranstaltung am 30. Oktober 2025 von 1
 5.00 bis 18.00 Uhr
LAST-MODIFIED;VALUE=DATE-TIME:20250917T092535Z
LOCATION:Online
URL:https://www.diskriminierung-berlin.de/termine/diskriminierung-chronisc
 he-erkrankung-rechtsdurchsetzung-und-schutzluecken
END:VEVENT
BEGIN:VTIMEZONE
TZID:Europe/Berlin
X-LIC-LOCATION:Europe/Berlin
BEGIN:STANDARD
DTSTART;VALUE=DATE-TIME:20251026T020000
TZNAME:CET
TZOFFSETFROM:+0200
TZOFFSETTO:+0100
END:STANDARD
END:VTIMEZONE
END:VCALENDAR
