BEGIN:VCALENDAR
VERSION:2.0
PRODID:-//Plone.org//NONSGML plone.app.event//EN
X-WR-TIMEZONE:Europe/Berlin
BEGIN:VEVENT
SUMMARY:Leichte Sprache\, Menschen mit Lese-und Schreibschwächen und das 
 Praxisprojekt: Stadtteilzentren inklusiv!
DTSTART;TZID=Europe/Berlin;VALUE=DATE-TIME:20220615T150000
DTEND;TZID=Europe/Berlin;VALUE=DATE-TIME:20220615T180000
DTSTAMP;VALUE=DATE-TIME:20260422T053915Z
UID:31f47353b37a42ccabd8595836f6d580@www.diskriminierung-berlin.de
CONTACT:LV Selbsthilfe\, +493027592525\, info@lv-selbsthilfe-berlin.de\, h
 ttps://www.selbsthilfe-inklusiv.de/termine-lv/leichte-sprache-leseschwaech
 en-stz
CREATED;VALUE=DATE-TIME:20220603T085609Z
DESCRIPTION:Mit Leichter und Einfacher Sprache soll die Verständlichkeit 
 von Inhalten verbessert werden. Wie sieht eine Umsetzung aus? Menschen mit
  Lese- und Schreibschwächen - wie diese Gruppe unterstützt werden kann u
 nd das Projekt Stadtteilzentren inklusiv!
LAST-MODIFIED;VALUE=DATE-TIME:20260119T111646Z
LOCATION:LV Selbsthilfe\, Online-Veranstaltung
URL:https://www.diskriminierung-berlin.de/termine/leichte-sprache-menschen
 -mit-lese-und-schreibschwaechen-und-das-praxisprojekt-stadtteilzentren-ink
 lusiv
END:VEVENT
BEGIN:VTIMEZONE
TZID:Europe/Berlin
X-LIC-LOCATION:Europe/Berlin
BEGIN:DAYLIGHT
DTSTART;VALUE=DATE-TIME:20220327T030000
TZNAME:CEST
TZOFFSETFROM:+0100
TZOFFSETTO:+0200
END:DAYLIGHT
END:VTIMEZONE
END:VCALENDAR
